BEGIN:VCALENDAR
VERSION:2.0
PRODID:-//Al-Anon Family Groups - ECPv6.15.20//NONSGML v1.0//EN
CALSCALE:GREGORIAN
METHOD:PUBLISH
X-WR-CALNAME:Al-Anon Family Groups
X-ORIGINAL-URL:https://staging.al-anon.org
X-WR-CALDESC:Events for Al-Anon Family Groups
REFRESH-INTERVAL;VALUE=DURATION:PT1H
X-Robots-Tag:noindex
X-PUBLISHED-TTL:PT1H
BEGIN:VTIMEZONE
TZID:America/New_York
BEGIN:DAYLIGHT
TZOFFSETFROM:-0500
TZOFFSETTO:-0400
TZNAME:EDT
DTSTART:20250309T070000
END:DAYLIGHT
BEGIN:STANDARD
TZOFFSETFROM:-0400
TZOFFSETTO:-0500
TZNAME:EST
DTSTART:20251102T060000
END:STANDARD
BEGIN:DAYLIGHT
TZOFFSETFROM:-0500
TZOFFSETTO:-0400
TZNAME:EDT
DTSTART:20260308T070000
END:DAYLIGHT
BEGIN:STANDARD
TZOFFSETFROM:-0400
TZOFFSETTO:-0500
TZNAME:EST
DTSTART:20261101T060000
END:STANDARD
BEGIN:DAYLIGHT
TZOFFSETFROM:-0500
TZOFFSETTO:-0400
TZNAME:EDT
DTSTART:20270314T070000
END:DAYLIGHT
BEGIN:STANDARD
TZOFFSETFROM:-0400
TZOFFSETTO:-0500
TZNAME:EST
DTSTART:20271107T060000
END:STANDARD
END:VTIMEZONE
BEGIN:VEVENT
DTSTART;TZID=America/New_York:20260727T120000
DTEND;TZID=America/New_York:20260727T160000
DTSTAMP:20260419T135003
CREATED:20260326T135908Z
LAST-MODIFIED:20260326T135908Z
UID:10000158-1785153600-1785168000@staging.al-anon.org
SUMMARY:Share-a-Day: Many Voices\, Backgrounds & Cultures Together in Al-Anon\, New York\, USA
DESCRIPTION:Hosted By: New York South Area \nNYC Intergroup presents:\n4 back-to-back speaker meetings with timed shares \nZoom ID: 897 1551 8773\nPasscode: 069726
URL:https://staging.al-anon.org/events/share-a-day-many-voices-backgrounds-cultures-together-in-al-anon-new-york-usa/
CATEGORIES:Al-Anon event
END:VEVENT
END:VCALENDAR