BEGIN:VCALENDAR
VERSION:2.0
PRODID:-//Al-Anon Family Groups - ECPv6.15.20//NONSGML v1.0//EN
CALSCALE:GREGORIAN
METHOD:PUBLISH
X-WR-CALNAME:Al-Anon Family Groups
X-ORIGINAL-URL:https://staging.al-anon.org
X-WR-CALDESC:Events for Al-Anon Family Groups
REFRESH-INTERVAL;VALUE=DURATION:PT1H
X-Robots-Tag:noindex
X-PUBLISHED-TTL:PT1H
BEGIN:VTIMEZONE
TZID:America/New_York
BEGIN:DAYLIGHT
TZOFFSETFROM:-0500
TZOFFSETTO:-0400
TZNAME:EDT
DTSTART:20250309T070000
END:DAYLIGHT
BEGIN:STANDARD
TZOFFSETFROM:-0400
TZOFFSETTO:-0500
TZNAME:EST
DTSTART:20251102T060000
END:STANDARD
BEGIN:DAYLIGHT
TZOFFSETFROM:-0500
TZOFFSETTO:-0400
TZNAME:EDT
DTSTART:20260308T070000
END:DAYLIGHT
BEGIN:STANDARD
TZOFFSETFROM:-0400
TZOFFSETTO:-0500
TZNAME:EST
DTSTART:20261101T060000
END:STANDARD
BEGIN:DAYLIGHT
TZOFFSETFROM:-0500
TZOFFSETTO:-0400
TZNAME:EDT
DTSTART:20270314T070000
END:DAYLIGHT
BEGIN:STANDARD
TZOFFSETFROM:-0400
TZOFFSETTO:-0500
TZNAME:EST
DTSTART:20271107T060000
END:STANDARD
END:VTIMEZONE
BEGIN:VEVENT
DTSTART;TZID=America/New_York:20260328T120000
DTEND;TZID=America/New_York:20260328T160000
DTSTAMP:20260419T151437
CREATED:20260105T202703Z
LAST-MODIFIED:20260105T202703Z
UID:10000147-1774699200-1774713600@staging.al-anon.org
SUMMARY:Share-a-Day: Accepting Reality One Day at a Time\, New York\, USA
DESCRIPTION:NYC Intergroup presents our monthly Al-Anon Workshop \nAccepting Reality\nOne Day at a Time\n\n\nSaturday\, March 28\, 2026\nNoon to 4:00 PM (New York Time)\nVirtual Workshop\n\n\nZoom Meeting Details\nMeeting ID: 897 1551 8773\nPasscode: 069726\nDial In: +1 929 205 6099 US (New York) \n\n\nProgram Schedule\n12pm: Releasing denial\n1pm: Hope\, not magical thinking\n2pm: Life on life’s terms\n3pm: The present moment\n\n\nFocuses on the healing we experience through recovery and what we can do to bring the message to others who suffer from this family disease. \nAll are welcome to share experience\, strength and hope! \n$5 suggested donation goes to Intergroup & expenses. \n\nVisit NYCAlanon.org\n\nNew York Intergroup’s website\, NYCAlanon.org \nhas a NEWCOMERS tab with loads of information & \nfree downloadable pamphlets. \nOur up-to-date MEETING LIST includes in-person and virtual meetings.
URL:https://staging.al-anon.org/events/share-a-day-accepting-reality-one-day-at-a-time-new-york-usa/
CATEGORIES:Al-Anon event
ATTACH;FMTTYPE=image/png:https://staging.al-anon.org/wp-content/uploads/WSO-March-2026-Sad-flier.png
END:VEVENT
BEGIN:VEVENT
DTSTART;TZID=America/New_York:20260323T180000
DTEND;TZID=America/New_York:20260323T191500
DTSTAMP:20260419T151437
CREATED:20260316T205412Z
LAST-MODIFIED:20260316T205412Z
UID:10000154-1774288800-1774293300@staging.al-anon.org
SUMMARY:Al-Anon Celebrates Seventy-Five Years\, New York\, USA
DESCRIPTION:With presentation of NY State and NY City Proclamations honoring Al-Anon Family Groups’ 75th Year Anniversary \nSpeaker Tom C. \nJoin the party!\nTo register: bit.ly/42jTnPA \nHosted by District 21 New York South\, Public Outreach Committee. Please support our\noutreach efforts with Seventh Tradition contributions. VENMO @district21nys ZELLE district21nys@gmail.com
URL:https://staging.al-anon.org/events/al-anon-celebrates-seventy-five-years-new-york-usa/
CATEGORIES:Al-Anon event
ATTACH;FMTTYPE=image/png:https://staging.al-anon.org/wp-content/uploads/Screenshot-2026-03-16-164353.png
END:VEVENT
BEGIN:VEVENT
DTSTART;TZID=America/New_York:20260317T170000
DTEND;TZID=America/New_York:20260317T174500
DTSTAMP:20260419T151437
CREATED:20260220T142444Z
LAST-MODIFIED:20260220T142444Z
UID:10000153-1773766800-1773769500@staging.al-anon.org
SUMMARY:Al-Anon - Community Resource for Patients & Clients Workshop\, New York\, USA
DESCRIPTION:As a professional\, you may see people affected by someone else’s drinking. Al-Anon\, a mutual support program for relatives and friends of alcoholics\, can help. \nLearn more in a free online workshop. \nTo register: bit.ly/4aLVm3J \nHosted by District 21 NYC Upper West Side (NYS Area)\, Public Outreach Committee
URL:https://staging.al-anon.org/events/al-anon-community-resource-for-patients-clients-workshop-new-york-usa/
CATEGORIES:Al-Anon event
ATTACH;FMTTYPE=image/png:https://staging.al-anon.org/wp-content/uploads/222-2.png
END:VEVENT
BEGIN:VEVENT
DTSTART;TZID=America/New_York:20260307T130000
DTEND;TZID=America/New_York:20260307T150000
DTSTAMP:20260419T151437
CREATED:20260121T181922Z
LAST-MODIFIED:20260121T181922Z
UID:10000150-1772888400-1772895600@staging.al-anon.org
SUMMARY:Spring into Recovery Pot Luck\, New York\, USA
DESCRIPTION:Spring into Recovery Pot Luck\nAl-Anon Pot Luck \nFood\, Fellowship\, and Fun! Spring into Recovery! \nBring a dish\, raise funds for outreach and carry the message of recovery! \nSaturday\, March 7\, 2026\nTime: 1-3pm Eastern\nSpeaker Wassie\, NYC\nAll Angels’ Church 251 West 80th Street\, NYC \nKindly RSVP POD21NYSemail@gmail.com let us know what you can bring \nHosted by District 21 NYC Upper West Side (NYS Area)\, Public Outreach Comm. \n 
URL:https://staging.al-anon.org/events/spring-into-recovery-pot-luck-new-york-usa/
CATEGORIES:Al-Anon event
ATTACH;FMTTYPE=image/png:https://staging.al-anon.org/wp-content/uploads/spring-into-recovery.png
END:VEVENT
BEGIN:VEVENT
DTSTART;TZID=America/New_York:20260228T120000
DTEND;TZID=America/New_York:20260228T160000
DTSTAMP:20260419T151437
CREATED:20260116T192959Z
LAST-MODIFIED:20260116T192959Z
UID:10000149-1772280000-1772294400@staging.al-anon.org
SUMMARY:Share-a-Day: Discovering & Recovering Intimacy\, New York \, USA
DESCRIPTION:Share-a-Day: Discovering & Recovering Intimacy\nExplore relationships and discover choices! \nSaturday\, February 28\, 2026\nTime: Noon to 4:00 PM (New York Time)\nFormat: Zoom Meeting  \nZoom Meeting Details \nMeeting ID: 89715518773\nPasscode: 069726 \nDial In: +1 929 205 6099 US (New York) \nShare-A-Day Workshop: Discovering and Recovering Intimacy — NYC Al-Anon
URL:https://staging.al-anon.org/events/share-a-day-discovering-recovering-intimacy-new-york-usa/
CATEGORIES:Al-Anon event
ATTACH;FMTTYPE=image/png:https://staging.al-anon.org/wp-content/uploads/download-2.png
END:VEVENT
BEGIN:VEVENT
DTSTART;VALUE=DATE:20260227
DTEND;VALUE=DATE:20260302
DTSTAMP:20260419T151437
CREATED:20260105T194946Z
LAST-MODIFIED:20260105T194946Z
UID:10000146-1772150400-1772409599@staging.al-anon.org
SUMMARY:River of Recovery - Area 64 2026 Convention
DESCRIPTION:2026 Area 64 Al-Anon Convention\n“River of Recovery”\n\n\nFebruary 27 – March 1\, 2026\nDoubleTree by Hilton Hotel\nDecatur Riverfront\n1101 6th Avenue NE\, Decatur\, AL 35601\nPhone: (256) 445-3168\n\n\nFeatured Speakers\nAl-Anon: Ellen C. (Addison\, TX)\, Larcine G. (Hawthorn\, CA)\, Rick J. (Toronto\, Canada)\nAlateen: Ryanne C. (Navarre\, FL)\nAA: CIA F. (Los Angeles\, CA)\n\n\nRegistration Information\nMail to: Southside AFG\nPO Box 4355\nHuntsville\, AL 35815 \n\nOnline Registration & More Info\nOnline registration\, weekend schedule\, hotel reservation at special rate\, and more available at the website.
URL:https://staging.al-anon.org/events/river-of-recovery-area-64-2026-convention/
CATEGORIES:Al-Anon event with A.A. participation
ATTACH;FMTTYPE=image/png:https://staging.al-anon.org/wp-content/uploads/saliboat.png
END:VEVENT
BEGIN:VEVENT
DTSTART;VALUE=DATE:20260227
DTEND;VALUE=DATE:20260302
DTSTAMP:20260419T151437
CREATED:20260105T191644Z
LAST-MODIFIED:20260121T161102Z
UID:10000143-1772150400-1772409599@staging.al-anon.org
SUMMARY:51st North Carolina/Bermuda Convention
DESCRIPTION:2026 North Carolina/Bermuda Al‑Anon/Alateen Convention\nwill be held February 27‑March 1 at the Village Inn in Clemmons\, NC. \nThere will be five speakers over the course of the weekend (three Al‑Anon. Alateen\, and one AA)\,\nalong with workshops\, discussion meetings\, hospitality\, and plenty of fellowship.
URL:https://staging.al-anon.org/events/51st-north-carolina-bermuda-convention/
CATEGORIES:Al-Anon event with A.A. participation,Al-Anon/Alateen event
END:VEVENT
BEGIN:VEVENT
DTSTART;VALUE=DATE:20260219
DTEND;VALUE=DATE:20260223
DTSTAMP:20260419T151437
CREATED:20251029T152437Z
LAST-MODIFIED:20251029T152437Z
UID:10000141-1771459200-1771804799@staging.al-anon.org
SUMMARY:SCAFG Al-Anon & Alateen 2026 Convention
DESCRIPTION:SCAFG Al-Anon & Alateen 2026 Convention\nwith A.A. Participation \nDates: February 19-22\, 2026 \nLocation:\nHilton Greenville\n45 W Orchard Park Dr.\nGreenville\, SC 29615 \n\nRegistration Rates: \nAl-Anon: $50 | A.A.: $50 | Alateen: $5 | 1 Day Only: $25 \n\nRegister: www.al-anon-sc.org \n\nHotel Reservations: \nPhone: (864) 232-4747 (Press Zero) \nGroup Name: SCAFG 2026 \nGroup Code: 90x \nReserve by: January 19\, 2026 \nRoom Rate: $129/night + taxes & fees (Disabled access rooms available) \n\n\nQuestions: SCAFGconv@gmail.com
URL:https://staging.al-anon.org/events/scafg-al-anon-alateen-2026-convention/
CATEGORIES:Al-Anon event with A.A. participation
ATTACH;FMTTYPE=image/png:https://staging.al-anon.org/wp-content/uploads/2026-SC-Al-Anon-Convention-Flyer-e1761751451564.png
END:VEVENT
BEGIN:VEVENT
DTSTART;TZID=America/New_York:20260131T120000
DTEND;TZID=America/New_York:20260131T160000
DTSTAMP:20260419T151437
CREATED:20251219T155208Z
LAST-MODIFIED:20251219T155208Z
UID:10000144-1769860800-1769875200@staging.al-anon.org
SUMMARY:Opening to Compassion workshop - NYC
DESCRIPTION:Opening to Compassion\nNYC Al-Anon Intergroup’s Monthly Afternoon Workshop \nSaturday\, January 31\, 2026\n\n\nVirtual Workshop\nTime: Noon to 4:00 PM (New York Time)\nFormat: Zoom Meeting \n\n\nZoom Meeting Details\nMeeting ID: 897 1551 8773\nPasscode: 069726\nDial In: +1 929-205-6099 + Meeting ID + Passcode \n\nFocuses on the healing we experience through recovery and what we can do to bring the message to others who suffer from this family disease. Newcomers are welcome. \n\nProgram Schedule\n12:00 PM: Compassion and letting go of resentments\n1:00 PM: Compassion and healing grief\n2:00 PM: Compassion and using the tools of the program\n3:00 PM: Compassion and keeping the focus on yourself\n\nVisit NYCAlanon.org\n\n 
URL:https://staging.al-anon.org/events/opening-to-compassion-workshop-nyc/
CATEGORIES:Al-Anon event
ATTACH;FMTTYPE=image/png:https://staging.al-anon.org/wp-content/uploads/WSO-January-2025-SaD-flier.png
END:VEVENT
END:VCALENDAR