BEGIN:VCALENDAR
VERSION:2.0
PRODID:-//Al-Anon Family Groups - ECPv6.15.20//NONSGML v1.0//EN
CALSCALE:GREGORIAN
METHOD:PUBLISH
X-WR-CALNAME:Al-Anon Family Groups
X-ORIGINAL-URL:https://staging.al-anon.org
X-WR-CALDESC:Events for Al-Anon Family Groups
REFRESH-INTERVAL;VALUE=DURATION:PT1H
X-Robots-Tag:noindex
X-PUBLISHED-TTL:PT1H
BEGIN:VTIMEZONE
TZID:America/New_York
BEGIN:DAYLIGHT
TZOFFSETFROM:-0500
TZOFFSETTO:-0400
TZNAME:EDT
DTSTART:20250309T070000
END:DAYLIGHT
BEGIN:STANDARD
TZOFFSETFROM:-0400
TZOFFSETTO:-0500
TZNAME:EST
DTSTART:20251102T060000
END:STANDARD
BEGIN:DAYLIGHT
TZOFFSETFROM:-0500
TZOFFSETTO:-0400
TZNAME:EDT
DTSTART:20260308T070000
END:DAYLIGHT
BEGIN:STANDARD
TZOFFSETFROM:-0400
TZOFFSETTO:-0500
TZNAME:EST
DTSTART:20261101T060000
END:STANDARD
BEGIN:DAYLIGHT
TZOFFSETFROM:-0500
TZOFFSETTO:-0400
TZNAME:EDT
DTSTART:20270314T070000
END:DAYLIGHT
BEGIN:STANDARD
TZOFFSETFROM:-0400
TZOFFSETTO:-0500
TZNAME:EST
DTSTART:20271107T060000
END:STANDARD
END:VTIMEZONE
BEGIN:VEVENT
DTSTART;VALUE=DATE:20260424
DTEND;VALUE=DATE:20260427
DTSTAMP:20260423T072501
CREATED:20260209T201334Z
LAST-MODIFIED:20260209T201334Z
UID:10000151-1776988800-1777247999@staging.al-anon.org
SUMMARY:2026 VT Al-Anon Convention\, Vermont\, USA
DESCRIPTION:2026 VT Al-Anon Convention\nOur Annual AFG Convention is being held at the historic Equinox Hotel in Manchester\, Vermont. \nFrom April 24th thru 26th\, 2026. Registration typically starts on Friday around 3 PM.
URL:https://staging.al-anon.org/events/2026-vt-al-anon-convention-vermont-usa/
CATEGORIES:Al-Anon event with A.A. participation
ATTACH;FMTTYPE=image/png:https://staging.al-anon.org/wp-content/uploads/download-1-1.png
END:VEVENT
END:VCALENDAR